BEGIN:VCALENDAR
PRODID:-//hacksw/handcal//NONSGML v1.0//EN
VERSION:2.0
METHOD:PUBLISH
BEGIN:VEVENT
DTSTART:20170920T233000Z
DTEND:20170921T020000Z
LOCATION:The Rainier Club
UID:1443120170920T233000ZSeptember 20, 2017 Dinner meeting
DTSTAMP:20260421T212427Z
DESCRIPTION:\nTopic:\n \nThe Care and Feeding of Self-Directed IRAs\n \n \n \nWarren’s practice is focused on assisting clients in analyzing, structuring, and negotiating tax-efficient structures for complex investment and business transactions.  Warren is a regular presenter and writer on several of the most cutting-edge tax law topics in the nation.  Warren has been published, featured, and/or quoted in outlets such as The Wall Street Journal, Forbes, Bloomberg BNA, Trusts & Estates magazine, Financial Planning magazine, and The Puget Sound Business Journal.  His latest publication, entitled “The Care and Feeding of Large IRAs” (co-authored with Natalie B. Choate) has been nominated for a “Thought Leadership Award” by the article’s publisher, Trusts & Estates magazine.\n
SUMMARY:September 20, 2017 Dinner meeting - Estate Planning Council of Seattle 
PRIORITY:3
BEGIN:VALARM
TRIGGER:PT18H
ACTION:DISPLAY
DESCRIPTION:Reminder
END:VALARM
END:VEVENT
END:VCALENDAR