BEGIN:VCALENDAR
PRODID:-//hacksw/handcal//NONSGML v1.0//EN
VERSION:2.0
METHOD:PUBLISH
BEGIN:VEVENT
DTSTART:20201029T153000Z
DTEND:20201029T184500Z
LOCATION:
UID:1942120201029T153000ZEstate Planning Seminar 2020
DTSTAMP:20260425T140008Z
DESCRIPTION:\nABOUT THE SEMINAR   \nThe 65th Annual Estate Planning Seminar is presented by the Estate Planning Council of Seattle and the University of Washington School of Law.\n\nQuestions?\n Email [estateps@uw.edu](http://discover.uw.edu/uo80006Q7x0y3s00nC5AOj0).     \n  \n \n \n \nThe Annual Estate Planning Seminar\n    \n \n \n \n \n \n \n \nThe Estate Planning Council of Seattle and the University of Washington School of Law are pleased to virtually present the 65th Annual Estate Planning Seminar. Please join us and our nationally recognized faculty to stay up to date on current estate planning issues and trends.  The Event of the Year for Estate Planners.\n       \n \n  \n \n \n \n \n \nEXPLORE THE SCHEDULE\n      \n \n \n \n \n \nOctober 29, 2020\n \n8:30 a.m. - 11:45 a.m.\n \nOctober 30, 2020\n \n8:30 a.m. - 11:45 a.m.\n \nNovember 2, 2020\n \n8:30 a.m. - 12:50 p.m.\n \nNovember 3, 2020\n \n8:30 a.m. - 12:50 a.m.\n \nNovember 4, 2020\n \n8:30 a.m. - 12:50 p.m.\n      \n \n \n \n \n \nREGISTRATION FEES\n      \n \n \n \n \n \n$375.00\n     \n \n \n \n \n$399.00\n     \n  \nThe 65th Annual Estate Planning Seminar is presented by the Estate Planning Council of Seattle and the University of Washington School of Law.\n\nQuestions?\n Email [estateps@uw.edu](http://discover.uw.edu/uo80006Q7x0y3s00nC5AOj0). 
SUMMARY:Estate Planning Seminar 2020 - Estate Planning Council of Seattle 
PRIORITY:3
BEGIN:VALARM
TRIGGER:PT18H
ACTION:DISPLAY
DESCRIPTION:Reminder
END:VALARM
END:VEVENT
END:VCALENDAR