BEGIN:VCALENDAR
PRODID:-//hacksw/handcal//NONSGML v1.0//EN
VERSION:2.0
METHOD:PUBLISH
BEGIN:VEVENT
DTSTART:20210714T190000Z
DTEND:20210714T203000Z
LOCATION:
UID:2095620210714T190000ZJuly Lunch Hour Webinar
DTSTAMP:20260426T011352Z
DESCRIPTION:\nJoin us for a lunch hour webinar, members and guest welcome!\n \nAll attendees will received Door Dash credit to order lunch on the day of the webinar!\n \nTopic: "529 Planning: 25th Birthday"\n \nCollege savings accounts under Section 529 have grown up over the past 25 years, with numerous changes to the law.  They are wildly popular and very accessible to our clients.  But the tax laws are complicated, many questions remain unanswered and there are still no final regulations in sight.  Learn what’s now permitted under Section 529 and how to avoid some of the pitfalls.\n \nSusan T. Bart is a partner in the Private Clients, Trusts & Estates Group of the Chicago office of Schiff Hardin LLP.  She is a Fellow of The American College of Trust and Estate Counsel (ACTEC) and Chair of ACTEC’s Estate and Gift Tax Committee.  Susan is recognized in Band 1, Chambers Private Wealth Law.  \n \n \n \n \n \n*This webinar was shown LIVE by NAEPC on May 12th, 2021, as a benefit to you a EPC Seattle Member we are re-showing it at no cost to our members. Unfortunately we cannot offer CE for the recorded version. \n \n \n \nBy now you should be familiar with our new DoorDash portal through which you will be authorized a credit of up to $25 that you can use for your lunch on 7/14/2021 **Please note the credit is for use only on July 14, 2021\n \nHaven't yet renewed your dues yet? [RENEW HERE](https://www.epcseattle.org/members/renewal)\n \nDoor Dash instructions will be included on confirmation email upon registering along with the Zoom Link. \n
SUMMARY:July Lunch Hour Webinar - Estate Planning Council of Seattle 
PRIORITY:3
BEGIN:VALARM
TRIGGER:PT18H
ACTION:DISPLAY
DESCRIPTION:Reminder
END:VALARM
END:VEVENT
END:VCALENDAR