BEGIN:VCALENDAR
PRODID:-//hacksw/handcal//NONSGML v1.0//EN
VERSION:2.0
METHOD:PUBLISH
BEGIN:VEVENT
DTSTART:20210811T190000Z
DTEND:20210811T203000Z
LOCATION:
UID:2096820210811T190000ZAugust Lunch Hour Meeting
DTSTAMP:20260421T044558Z
DESCRIPTION:\nJoin us for a lunch hour presentation on Washington Cares Fund & LTC Coverage. Members and guest welcome!\n \nAll attendees will received Door Dash credit to order lunch on the day of the meeting!\n \n \n \nTopic: Washington Cares Fund, LTC Coverage & Q&A\n \nSpeakers: \n \nDan Thomey\n \nLTC External Wholesaler l Crump Life Insurance Services\n \n&\n \nShawn Britt, CLTC, CLU\n Director, Long-term Care Initiatives\n Nationwide Financial\n \nPresentation Summary: Coming Soon! \n \n \n \nBy now you should be familiar with our new DoorDash portal through which you will be authorized a credit of up to $25 that you can use for your lunch on 8/11/2021 **Please note the credit is for use only on August 11, 2021\n \nDoor Dash instructions will be included on confirmation email upon registering along with the Zoom Link. \n
SUMMARY:August Lunch Hour Meeting - Estate Planning Council of Seattle 
PRIORITY:3
BEGIN:VALARM
TRIGGER:PT18H
ACTION:DISPLAY
DESCRIPTION:Reminder
END:VALARM
END:VEVENT
END:VCALENDAR