BEGIN:VCALENDAR
PRODID:-//hacksw/handcal//NONSGML v1.0//EN
VERSION:2.0
METHOD:PUBLISH
BEGIN:VEVENT
DTSTART:20211201T200000Z
DTEND:20211201T213000Z
LOCATION:
UID:2166020211201T200000ZDecember 2021 Quarterly Dinner - Book Club
DTSTAMP:20260422T074241Z
DESCRIPTION:\nEPC Seattle Book Club\n \n\n \n \n \nThis Book Club is for those registered to attend the December 8, 2021 Quarterly Dinner Meeting \n \nRegistering for this event ensures your participation in the Virtual December 1, 2021 ZOOM Book Club along with receiving a complimentary copy of Professor Dorothey Brown book - The Whiteness Of Wealth' Probes Why Black Americans Pay Higher Taxes.\n \nThis is FREE for EPC Seattle Members\n \nGuest Fee is $15 to cover the cost of the book (guests must be registered to attend the December 8th, 2021 Quarterly Dinner Meeting)\n
SUMMARY:December 2021 Quarterly Dinner - Book Club - Estate Planning Council of Seattle 
PRIORITY:3
BEGIN:VALARM
TRIGGER:PT18H
ACTION:DISPLAY
DESCRIPTION:Reminder
END:VALARM
END:VEVENT
END:VCALENDAR