BEGIN:VCALENDAR
PRODID:-//hacksw/handcal//NONSGML v1.0//EN
VERSION:2.0
METHOD:PUBLISH
BEGIN:VEVENT
DTSTART:20221024T150000Z
DTEND:20221025T000000Z
LOCATION:Bell Harbor International Conference Center
UID:2270820221024T150000Z67th Annual Estate Planning Seminar October 24-25
DTSTAMP:20260424T164549Z
DESCRIPTION:\nOctober 24-25, 2022\n \nWe are excited to offer a hybrid program this fall at the 67th Annual Seattle Estate Planning Seminar. Given the hybrid nature of the conference, and our new location, we are offering 300 in-person seats and an unlimited number of virtual ones!  Onsite attendees will have access to the speakers, plenary sessions, exhibit area and back by popular demand, a networking lunch buffet! \n \n[Summary - 67th Seattle Estate Planning Seminar (cvent.com)](https://web.cvent.com/event/a2d12999-19a9-4f41-ac84-e3034ecebb45/summary)\n
SUMMARY:67th Annual Estate Planning Seminar October 24-25 - Estate Planning Council of Seattle 
PRIORITY:3
BEGIN:VALARM
TRIGGER:PT18H
ACTION:DISPLAY
DESCRIPTION:Reminder
END:VALARM
END:VEVENT
END:VCALENDAR