BEGIN:VCALENDAR
PRODID:-//hacksw/handcal//NONSGML v1.0//EN
VERSION:2.0
METHOD:PUBLISH
BEGIN:VEVENT
DTSTART:20261001T000000Z
DTEND:20261001T020000Z
LOCATION:
UID:2937120261001T000000ZSeptember Quarterly Dinner Meeting
DTSTAMP:20260420T084138Z
DESCRIPTION:
SUMMARY:September Quarterly Dinner Meeting - Estate Planning Council of Seattle 
PRIORITY:3
BEGIN:VALARM
TRIGGER:PT18H
ACTION:DISPLAY
DESCRIPTION:Reminder
END:VALARM
END:VEVENT
END:VCALENDAR